BEGIN:VCALENDAR
VERSION:2.0
PRODID:-//Province of Herefordshire - ECPv6.15.20//NONSGML v1.0//EN
CALSCALE:GREGORIAN
METHOD:PUBLISH
X-WR-CALNAME:Province of Herefordshire
X-ORIGINAL-URL:https://herefordshiremasons.org.uk
X-WR-CALDESC:Events for Province of Herefordshire
REFRESH-INTERVAL;VALUE=DURATION:PT1H
X-Robots-Tag:noindex
X-PUBLISHED-TTL:PT1H
BEGIN:VTIMEZONE
TZID:UTC
BEGIN:STANDARD
TZOFFSETFROM:+0000
TZOFFSETTO:+0000
TZNAME:UTC
DTSTART:20240101T000000
END:STANDARD
END:VTIMEZONE
BEGIN:VEVENT
DTSTART;TZID=UTC:20250914T110000
DTEND;TZID=UTC:20250914T160000
DTSTAMP:20260423T135153
CREATED:20250824T200732Z
LAST-MODIFIED:20250824T202046Z
UID:10000409-1757847600-1757865600@herefordshiremasons.org.uk
SUMMARY:Provincial Open Golf Tournament 14th September
DESCRIPTION:This year’s Provincial Open and Championships will be held on Sunday 14th September at South Herefordshire Golf Club\, tee off time from 12:00 to which all Golfers\, Masons\, Friends or family are invited with a meal after with wives\, partners or family. Please put this date in your diary and contact the club secretary Dave Gwynne by email gwynne345@btinternet.com or phone 07508 517919 for more details.
URL:https://herefordshiremasons.org.uk/provincial-event/provincial-open-golf-tournament/
CATEGORIES:Golf Society,Social
END:VEVENT
END:VCALENDAR