BEGIN:VCALENDAR
VERSION:2.0
PRODID:-//Province of Herefordshire - ECPv6.15.20//NONSGML v1.0//EN
CALSCALE:GREGORIAN
METHOD:PUBLISH
X-ORIGINAL-URL:https://herefordshiremasons.org.uk
X-WR-CALDESC:Events for Province of Herefordshire
REFRESH-INTERVAL;VALUE=DURATION:PT1H
X-Robots-Tag:noindex
X-PUBLISHED-TTL:PT1H
BEGIN:VTIMEZONE
TZID:UTC
BEGIN:STANDARD
TZOFFSETFROM:+0000
TZOFFSETTO:+0000
TZNAME:UTC
DTSTART:20250101T000000
END:STANDARD
END:VTIMEZONE
BEGIN:VEVENT
DTSTART;TZID=UTC:20260330T180000
DTEND;TZID=UTC:20260330T180000
DTSTAMP:20260424T171752
CREATED:20260316T142115Z
LAST-MODIFIED:20260317T114753Z
UID:10000450-1774893600-1774893600@herefordshiremasons.org.uk
SUMMARY:Vitruvian Lodge
DESCRIPTION:Please log in via the members section to view this post.
URL:https://herefordshiremasons.org.uk/provincial-event/ariconium/
END:VEVENT
END:VCALENDAR